BEGIN:VCALENDAR
VERSION:2.0
PRODID:-//ChamberMaster//Event Calendar 2.0//EN
METHOD:PUBLISH
X-PUBLISHED-TTL:P3D
REFRESH-INTERVAL:P3D
CALSCALE:GREGORIAN
BEGIN:VEVENT
DTSTART:20171014T160000Z
DTEND:20171014T200000Z
X-MICROSOFT-CDO-ALLDAYEVENT:FALSE
SUMMARY:Fall in Fitness-Expo and Hurricane Relief Benefit
DESCRIPTION:Come join ARMR CrossFit for a fun day the whole family can enjoy: Local vendors\, bounce house\, pumpkin painting\, fitness challenges\, food\, beer\, raffles\, a DJ \, and an opportunity to collect donations and raise money for those affected by the hurricanes. Fair Haven Church will be at the event collecting the following donation items: hygiene products\, new socks/new underwear/soaps and hand cleaners\, diapers and baby needs\, juices and can goods.
X-ALT-DESC;FMTTYPE=text/html:Come join ARMR CrossFit for a fun day the whole family can enjoy: Local vendors\, bounce house\, pumpkin painting\, fitness challenges\, food\, beer\, raffles\, a DJ \, and an opportunity to collect donations and raise money for those affected by the hurricanes. Fair Haven Church will be at the event collecting the following donation items: hygiene products\, new socks/new underwear/soaps and hand cleaners\, diapers and baby needs\, juices and can goods.
LOCATION:ARMR CrossFit 3229 Oak
UID:e.1348.3930
SEQUENCE:3
DTSTAMP:20260425T232205Z
URL:http://business.hudsonvillechamber.com/events/details/fall-in-fitness-expo-and-hurricane-relief-benefit-3930
END:VEVENT

END:VCALENDAR
