BEGIN:VCALENDAR
VERSION:2.0
PRODID:-//ChamberMaster//Event Calendar 2.0//EN
METHOD:PUBLISH
X-PUBLISHED-TTL:P3D
REFRESH-INTERVAL:P3D
CALSCALE:GREGORIAN
BEGIN:VEVENT
DTSTART:20241205T210000Z
DTEND:20241205T220000Z
X-MICROSOFT-CDO-ALLDAYEVENT:FALSE
SUMMARY:Happy Hour at DJs Pizza
DESCRIPTION:Enjoy casual networking with us at DJ's Pizza. \n\nThe Chamber will provide shareable apps.\n\nAnd enjoy drinks from DJs (cash bar).\n\n\n\n\n\n \nCancellation Policy\n\nBusinesses may cancel their event registration within 72 hours to receive a full refund. After this period\, no refunds will be issued. Thank you for your understanding and continued engagement with the Hudsonville Chamber.
X-ALT-DESC;FMTTYPE=text/html:Enjoy casual networking with us at DJ&#39\;s Pizza.&nbsp\;<br />\nThe Chamber will provide shareable apps.<br />\nAnd enjoy drinks from DJs (cash bar).<br />\n<br />\n<br />\n&nbsp\;\n<h1 style="padding: 0px\; margin: 0px\; box-sizing: border-box\;">Cancellation Policy</h1>\n\n<p style="padding: 0px\; margin: 0px\; box-sizing: border-box\;">Businesses may cancel their event registration within 72 hours&nbsp\;to receive a full refund. After this period\, no refunds&nbsp\;will be issued. Thank you for your understanding and continued engagement with the Hudsonville Chamber.</p>\n
LOCATION:DJ's Pizza Pub 3471 Kelly St Hudsonville\, MI 49426
UID:e.1348.5897
SEQUENCE:3
DTSTAMP:20260426T022514Z
URL:http://business.hudsonvillechamber.com/events/details/happy-hour-at-djs-pizza-5897
END:VEVENT

END:VCALENDAR
