BEGIN:VCALENDAR
VERSION:2.0
PRODID:-//ChamberMaster//Event Calendar 2.0//EN
METHOD:PUBLISH
X-PUBLISHED-TTL:P3D
REFRESH-INTERVAL:P3D
CALSCALE:GREGORIAN
BEGIN:VEVENT
DTSTART:20250429T160000Z
DTEND:20250429T170000Z
X-MICROSOFT-CDO-ALLDAYEVENT:FALSE
SUMMARY:Elevate at Hudsonville Lanes
DESCRIPTION:Join us for a backstage tour of Hudsonville Lanes. Lunch is provided by Jet's Pizza.\n\n\n\nRegistration closes Friday\, April 25 at 11:00am.\n\n \nAbout Hudsonville Lanes:\n\nHudsonville Lanes offers a fun and affordable experience for families and friends. With budget-friendly pricing\, it's the perfect place to enjoy quality time together. The facility features plenty of bumper bowling lanes designed specifically for kids\, ensuring fun for all ages. Hudsonville Lanes also provides a variety of specials throughout the year\, including $2 Tuesdays\, Home School Specials\, Summer Memberships\, and Glow Bowl.\n\nVisit their website here.
X-ALT-DESC;FMTTYPE=text/html:Join us for a backstage tour of Hudsonville Lanes. Lunch is provided by Jet&#39\;s Pizza.<br />\n<br />\n<strong>Registration closes Friday\, April 25 at 11:00am.</strong><br />\n&nbsp\;\n<h1>About Hudsonville Lanes:</h1>\n\n<p>Hudsonville Lanes offers a fun and affordable experience for families and friends. With budget-friendly pricing\, it&rsquo\;s the perfect place to enjoy quality time together. The facility features plenty of bumper bowling lanes designed specifically for kids\, ensuring fun for all ages. Hudsonville Lanes also provides a variety of specials throughout the year\, including $2 Tuesdays\, Home School Specials\, Summer Memberships\, and Glow Bowl.<br />\n<strong>Visit their website <a href="https://hudsonvillelanes.com/">here</a>.</strong></p>\n
LOCATION:Hudsonville Lanes 5775 Balsam Dr
UID:e.1348.5929
SEQUENCE:3
DTSTAMP:20260423T012759Z
URL:https://business.hudsonvillechamber.com/events/details/elevate-at-hudsonville-lanes-5929
END:VEVENT

END:VCALENDAR
